BEGIN:VCALENDAR
VERSION:2.0
PRODID:-//Observatorio de Universidades - ECPv6.11.2//NONSGML v1.0//EN
CALSCALE:GREGORIAN
METHOD:PUBLISH
X-ORIGINAL-URL:https://observatoriodeuniversidades.com
X-WR-CALDESC:Eventos para Observatorio de Universidades
REFRESH-INTERVAL;VALUE=DURATION:PT1H
X-Robots-Tag:noindex
X-PUBLISHED-TTL:PT1H
BEGIN:VTIMEZONE
TZID:America/Caracas
BEGIN:STANDARD
TZOFFSETFROM:-0400
TZOFFSETTO:-0400
TZNAME:-04
DTSTART:20220101T000000
END:STANDARD
END:VTIMEZONE
BEGIN:VEVENT
DTSTART;TZID=America/Caracas:20220628T090000
DTEND;TZID=America/Caracas:20220628T100000
DTSTAMP:20260421T121702
CREATED:20220712T234727Z
LAST-MODIFIED:20220712T234727Z
UID:2613-1656406800-1656410400@observatoriodeuniversidades.com
SUMMARY:ENOBU Salud 2022
DESCRIPTION:¡La Enobu Salud 2022 está lista para su presentación! \n✅Será la publicación más importante sobre las condiciones de trabajo y estudio de los universitarios de la salud en Venezuela. 🤓 🩺. \n✅La encuesta arrojó datos importantes en cuanto a: \n➖ Insumos y atención médica 💉\n➖ Servicios públicos 💧\n➖ Covid-19 🦠\n➖ Bienestar psicológico🧘🏻‍♀️\n➖ Calidad educativa 📚 \n000000
URL:https://observatoriodeuniversidades.com/event/enobu-salud-2022/
CATEGORIES:OBU
ATTACH;FMTTYPE=:
END:VEVENT
BEGIN:VEVENT
DTSTART;TZID=America/Caracas:20220621T090000
DTEND;TZID=America/Caracas:20220621T100000
DTSTAMP:20260421T121703
CREATED:20220712T234727Z
LAST-MODIFIED:20220712T234727Z
UID:2612-1655802000-1655805600@observatoriodeuniversidades.com
SUMMARY:Presentación Mapa Interactivo UPEL
DESCRIPTION:Este martes 2️⃣1️⃣ de junio el Observatorio de Universidades presentará el mapa interactivo de las universidades en Venezuela 📍🗺️ Una herramienta que permitirá conocer: \n📌 La oferta académica \n📌Ubicación \n📌Autoridades \n📌 Sitios web \n📌 Entre otras informaciones complementarias de las instituciones de educación superior del país 🇻🇪 \nHora: 9️⃣:0️⃣0️⃣ a.m. \n000000
URL:https://observatoriodeuniversidades.com/event/presentacion-mapa-interactivo-upel/
CATEGORIES:OBU
ATTACH;FMTTYPE=:
END:VEVENT
END:VCALENDAR